BEGIN:VCALENDAR
VERSION:2.0
PRODID:-//Nutritional Sciences - ECPv6.15.17.1//NONSGML v1.0//EN
CALSCALE:GREGORIAN
METHOD:PUBLISH
X-WR-CALNAME:Nutritional Sciences
X-ORIGINAL-URL:https://nutrisci.wisc.edu
X-WR-CALDESC:Events for Nutritional Sciences
REFRESH-INTERVAL;VALUE=DURATION:PT1H
X-Robots-Tag:noindex
X-PUBLISHED-TTL:PT1H
BEGIN:VTIMEZONE
TZID:UTC
BEGIN:STANDARD
TZOFFSETFROM:+0000
TZOFFSETTO:+0000
TZNAME:UTC
DTSTART:20230101T000000
END:STANDARD
END:VTIMEZONE
BEGIN:VEVENT
DTSTART;TZID=UTC:20240307T110000
DTEND;TZID=UTC:20240307T120000
DTSTAMP:20260421T020144
CREATED:20240116T225641Z
LAST-MODIFIED:20240319T000701Z
UID:8708-1709809200-1709812800@nutrisci.wisc.edu
SUMMARY:Michaela Trautman\, UW-Madison\, Seminar - Regulation of metabolic health by dietary protein and isoleucine
DESCRIPTION:Michaela Trautman\nUW-Madison \nTitle: Regulation of metabolic health by dietary protein and isoleucine \nThursday\, March 7th\, 2024\n11:00-12:00pm\n290 Nutritional Sciences
URL:https://nutrisci.wisc.edu/event/michaela-trautman-uw-madison-seminar-tba/
LOCATION:Room 290\, Nutritional Sciences\, 1415 Linden Dr.\, Madison\, WI\, 53704\, United States
ATTACH;FMTTYPE=image/png:https://nutrisci.wisc.edu/wp-content/uploads/sites/416/2024/01/Screen-Shot-2024-03-18-at-2.05.24-PM.png
END:VEVENT
END:VCALENDAR