BEGIN:VCALENDAR
VERSION:2.0
PRODID:-//Nutritional Sciences - ECPv6.15.17.1//NONSGML v1.0//EN
CALSCALE:GREGORIAN
METHOD:PUBLISH
X-ORIGINAL-URL:https://nutrisci.wisc.edu
X-WR-CALDESC:Events for Nutritional Sciences
REFRESH-INTERVAL;VALUE=DURATION:PT1H
X-Robots-Tag:noindex
X-PUBLISHED-TTL:PT1H
BEGIN:VTIMEZONE
TZID:UTC
BEGIN:STANDARD
TZOFFSETFROM:+0000
TZOFFSETTO:+0000
TZNAME:UTC
DTSTART:20230101T000000
END:STANDARD
END:VTIMEZONE
BEGIN:VEVENT
DTSTART;TZID=UTC:20240321T110000
DTEND;TZID=UTC:20240321T120000
DTSTAMP:20260421T080932
CREATED:20240116T230243Z
LAST-MODIFIED:20240116T230243Z
UID:8713-1711018800-1711022400@nutrisci.wisc.edu
SUMMARY:Brian Parks\, UW-Madison\, Seminar - Genetic Approaches to Identify and Validate Genes that contribute to Metabolic Diseases
DESCRIPTION:Brian Parks\nUW-Madison \nTitle: Genetic Approaches to Identify and Validate Genes that contribute to Metabolic Diseases \nThursday\, March 21st\, 2024\n11:00-12:00pm\n290 Nutritional Sciences
URL:https://nutrisci.wisc.edu/event/brian-parks-uw-madison-seminar-genetic-approaches-to-identify-and-validate-genes-that-contribute-to-metabolic-diseases/
LOCATION:Room 290\, Nutritional Sciences\, 1415 Linden Dr.\, Madison\, WI\, 53704\, United States
ATTACH;FMTTYPE=image/jpeg:https://nutrisci.wisc.edu/wp-content/uploads/sites/416/2024/01/Brian_Parks.jpg
END:VEVENT
END:VCALENDAR