BEGIN:VCALENDAR
VERSION:2.0
PRODID:-//Nutritional Sciences - ECPv6.15.17.1//NONSGML v1.0//EN
CALSCALE:GREGORIAN
METHOD:PUBLISH
X-ORIGINAL-URL:https://nutrisci.wisc.edu
X-WR-CALDESC:Events for Nutritional Sciences
REFRESH-INTERVAL;VALUE=DURATION:PT1H
X-Robots-Tag:noindex
X-PUBLISHED-TTL:PT1H
BEGIN:VTIMEZONE
TZID:UTC
BEGIN:STANDARD
TZOFFSETFROM:+0000
TZOFFSETTO:+0000
TZNAME:UTC
DTSTART:20230101T000000
END:STANDARD
END:VTIMEZONE
BEGIN:VEVENT
DTSTART;TZID=UTC:20240409T120000
DTEND;TZID=UTC:20240409T123000
DTSTAMP:20260421T003237
CREATED:20240401T193916Z
LAST-MODIFIED:20240401T193916Z
UID:8983-1712664000-1712665800@nutrisci.wisc.edu
SUMMARY:Alumni Panel - MS Clinical Nutrition
DESCRIPTION:Event Details:\nAlumni Panel: Clinical Nutrition \nJoin alumni from the Clinical Nutrition professional programs as they discuss their experiences in their program\, how it met their academic needs\, why it was a good fit\, and how it might help you in your future pursuits. \nTuesday\, April 9\, 2024\nNoon – 12:30 p.m. central time\n5:00 – 5:30 p.m. GMT \nRegister Today!
URL:https://nutrisci.wisc.edu/event/alumni-panel-ms-clinical-nutrition/
END:VEVENT
END:VCALENDAR