BEGIN:VCALENDAR
VERSION:2.0
PRODID:-//Nutritional Sciences - ECPv6.15.17.1//NONSGML v1.0//EN
CALSCALE:GREGORIAN
METHOD:PUBLISH
X-WR-CALNAME:Nutritional Sciences
X-ORIGINAL-URL:https://nutrisci.wisc.edu
X-WR-CALDESC:Events for Nutritional Sciences
REFRESH-INTERVAL;VALUE=DURATION:PT1H
X-Robots-Tag:noindex
X-PUBLISHED-TTL:PT1H
BEGIN:VTIMEZONE
TZID:UTC
BEGIN:STANDARD
TZOFFSETFROM:+0000
TZOFFSETTO:+0000
TZNAME:UTC
DTSTART:20230101T000000
END:STANDARD
END:VTIMEZONE
BEGIN:VEVENT
DTSTART;TZID=UTC:20240411T110000
DTEND;TZID=UTC:20240411T120000
DTSTAMP:20260420T225013
CREATED:20240116T233942Z
LAST-MODIFIED:20240116T233942Z
UID:8719-1712833200-1712836800@nutrisci.wisc.edu
SUMMARY:Elizabeth Parks\, University of Missouri\, Seminar - The Process of Hepatic Lipogenesis and its Role in Liver Disease
DESCRIPTION:Elizabeth Parks\nUniversity of Missouri \nTitle: The Process of Hepatic Lipogenesis and its Role in Liver Disease \nThursday\, April 11th\, 2024\n11:00-12:00pm\n290 Nutritional Sciences
URL:https://nutrisci.wisc.edu/event/elizabeth-parks-university-of-missouri-seminar-the-process-of-hepatic-lipogenesis-and-its-role-in-liver-disease/
LOCATION:Room 290\, Nutritional Sciences\, 1415 Linden Dr.\, Madison\, WI\, 53704\, United States
ATTACH;FMTTYPE=image/png:https://nutrisci.wisc.edu/wp-content/uploads/sites/416/2024/01/elizabeth-parks_Image.png
END:VEVENT
END:VCALENDAR