BEGIN:VCALENDAR
VERSION:2.0
PRODID:-//Nutritional Sciences - ECPv6.15.17.1//NONSGML v1.0//EN
CALSCALE:GREGORIAN
METHOD:PUBLISH
X-ORIGINAL-URL:https://nutrisci.wisc.edu
X-WR-CALDESC:Events for Nutritional Sciences
REFRESH-INTERVAL;VALUE=DURATION:PT1H
X-Robots-Tag:noindex
X-PUBLISHED-TTL:PT1H
BEGIN:VTIMEZONE
TZID:UTC
BEGIN:STANDARD
TZOFFSETFROM:+0000
TZOFFSETTO:+0000
TZNAME:UTC
DTSTART:20230101T000000
END:STANDARD
END:VTIMEZONE
BEGIN:VEVENT
DTSTART;TZID=UTC:20240418T093000
DTEND;TZID=UTC:20240418T170000
DTSTAMP:20260420T225117
CREATED:20231213T225010Z
LAST-MODIFIED:20231213T225010Z
UID:8629-1713432600-1713459600@nutrisci.wisc.edu
SUMMARY:Wisconsin Academy of Nutrition and Dietetics Annual Meeting
DESCRIPTION:When:\nThursday\, April 18\, 2024\n9:30 AM\n\n\nWhere:\nOshkosh Convention Center\n1 N Main St\nOshkosh\, Wisconsin  54901\nUnited States\n\n\nContact:\nWAND office\nwand@badgerbay.co\n920-560-5619\n\n\n\nhttps://www.eatrightwisc.org/events/EventDetails.aspx?id=1779272&group=
URL:https://nutrisci.wisc.edu/event/wisconsin-academy-of-nutrition-and-dietetics-annual-meeting/
LOCATION:Oshkosh Convention Center\, 1 North Main Street\, Oshkosh\, WI\, 54901\, United States
ATTACH;FMTTYPE=image/png:https://nutrisci.wisc.edu/wp-content/uploads/sites/416/2023/10/wand.png
END:VEVENT
BEGIN:VEVENT
DTSTART;TZID=UTC:20240418T110000
DTEND;TZID=UTC:20240418T120000
DTSTAMP:20260420T225117
CREATED:20240116T234901Z
LAST-MODIFIED:20240417T215046Z
UID:8728-1713438000-1713441600@nutrisci.wisc.edu
SUMMARY:Dave Eide\, UW-Madison\, Seminar - ZRTs\, ZRGs and ZAP - The Genetics of Cellular Responses to Zinc Deficiency
DESCRIPTION:Dave Eide\nUW-Madison \nTitle: ZRTs\, ZRGs and ZAP – The Genetics of Cellular Responses to Zinc Deficiency \nThursday\, April 18th\, 2024\n11:00-12:00pm\n290 Nutritional Sciences
URL:https://nutrisci.wisc.edu/event/dave-eide-uw-madison-seminar-zrts-zrgs-and-zap-the-genetics-of-cellular-responses-to-zinc-deficiency/
LOCATION:Room 290\, Nutritional Sciences\, 1415 Linden Dr.\, Madison\, WI\, 53704\, United States
ATTACH;FMTTYPE=image/jpeg:https://nutrisci.wisc.edu/wp-content/uploads/sites/416/2024/01/eide-200x300-1.jpg
END:VEVENT
END:VCALENDAR