BEGIN:VCALENDAR
VERSION:2.0
PRODID:-//Nutritional Sciences - ECPv6.15.17.1//NONSGML v1.0//EN
CALSCALE:GREGORIAN
METHOD:PUBLISH
X-ORIGINAL-URL:https://nutrisci.wisc.edu
X-WR-CALDESC:Events for Nutritional Sciences
REFRESH-INTERVAL;VALUE=DURATION:PT1H
X-Robots-Tag:noindex
X-PUBLISHED-TTL:PT1H
BEGIN:VTIMEZONE
TZID:America/Chicago
BEGIN:DAYLIGHT
TZOFFSETFROM:-0600
TZOFFSETTO:-0500
TZNAME:CDT
DTSTART:20230312T080000
END:DAYLIGHT
BEGIN:STANDARD
TZOFFSETFROM:-0500
TZOFFSETTO:-0600
TZNAME:CST
DTSTART:20231105T070000
END:STANDARD
BEGIN:DAYLIGHT
TZOFFSETFROM:-0600
TZOFFSETTO:-0500
TZNAME:CDT
DTSTART:20240310T080000
END:DAYLIGHT
BEGIN:STANDARD
TZOFFSETFROM:-0500
TZOFFSETTO:-0600
TZNAME:CST
DTSTART:20241103T070000
END:STANDARD
BEGIN:DAYLIGHT
TZOFFSETFROM:-0600
TZOFFSETTO:-0500
TZNAME:CDT
DTSTART:20250309T080000
END:DAYLIGHT
BEGIN:STANDARD
TZOFFSETFROM:-0500
TZOFFSETTO:-0600
TZNAME:CST
DTSTART:20251102T070000
END:STANDARD
END:VTIMEZONE
BEGIN:VEVENT
DTSTART;TZID=America/Chicago:20240717T120000
DTEND;TZID=America/Chicago:20240717T130000
DTSTAMP:20260420T194113
CREATED:20240626T201535Z
LAST-MODIFIED:20240626T201535Z
UID:9238-1721217600-1721221200@nutrisci.wisc.edu
SUMMARY:UW Integrated Graduate Program in Nutrition and Dietetics
DESCRIPTION:University of Wisconsin Integrated Graduate Program in Nutrition and Dietetics\nJoin us on Wednesday\, July 17th from 12- 1 pm central time for an open house\nRegistration Link: https://www.tfaforms.com/5132912\n \n 
URL:https://nutrisci.wisc.edu/event/uw-integrated-graduate-program-in-nutrition-and-dietetics/
LOCATION:Virtual
END:VEVENT
END:VCALENDAR