BEGIN:VCALENDAR
VERSION:2.0
PRODID:-//Nutritional Sciences - ECPv6.15.17.1//NONSGML v1.0//EN
CALSCALE:GREGORIAN
METHOD:PUBLISH
X-WR-CALNAME:Nutritional Sciences
X-ORIGINAL-URL:https://nutrisci.wisc.edu
X-WR-CALDESC:Events for Nutritional Sciences
REFRESH-INTERVAL;VALUE=DURATION:PT1H
X-Robots-Tag:noindex
X-PUBLISHED-TTL:PT1H
BEGIN:VTIMEZONE
TZID:UTC
BEGIN:STANDARD
TZOFFSETFROM:+0000
TZOFFSETTO:+0000
TZNAME:UTC
DTSTART:20230101T000000
END:STANDARD
END:VTIMEZONE
BEGIN:VEVENT
DTSTART;TZID=UTC:20241003T110000
DTEND;TZID=UTC:20241003T120000
DTSTAMP:20260420T095837
CREATED:20240904T215731Z
LAST-MODIFIED:20240904T215731Z
UID:10191-1727953200-1727956800@nutrisci.wisc.edu
SUMMARY:Ting Fu Seminar- "The role of Microbiota-Modified Bile Acids on intestine tumorigenesis"
DESCRIPTION:Join us this Thursday\, October 3rd from 11-12pm for Ting Fu’s seminar titled “The role of Microbiota-Modified Bile Acids on intestine tumorigenesis” #seminarseries
URL:https://nutrisci.wisc.edu/event/ting-fu-seminar-the-role-of-microbiota-modified-bile-acids-on-intestine-tumorigenesis/
LOCATION:Room 290\, Nutritional Sciences\, 1415 Linden Dr.\, Madison\, WI\, 53704\, United States
END:VEVENT
END:VCALENDAR