BEGIN:VCALENDAR
VERSION:2.0
PRODID:-//Nutritional Sciences - ECPv6.15.17.1//NONSGML v1.0//EN
CALSCALE:GREGORIAN
METHOD:PUBLISH
X-ORIGINAL-URL:https://nutrisci.wisc.edu
X-WR-CALDESC:Events for Nutritional Sciences
REFRESH-INTERVAL;VALUE=DURATION:PT1H
X-Robots-Tag:noindex
X-PUBLISHED-TTL:PT1H
BEGIN:VTIMEZONE
TZID:UTC
BEGIN:STANDARD
TZOFFSETFROM:+0000
TZOFFSETTO:+0000
TZNAME:UTC
DTSTART:20230101T000000
END:STANDARD
END:VTIMEZONE
BEGIN:VEVENT
DTSTART;TZID=UTC:20241031T110000
DTEND;TZID=UTC:20241031T120000
DTSTAMP:20260420T100119
CREATED:20240904T221956Z
LAST-MODIFIED:20240910T231527Z
UID:10201-1730372400-1730376000@nutrisci.wisc.edu
SUMMARY:Patrick Stover Seminar- Folate-mediated One-carbon metabolism as an exemplar of the promise and perils of precision nutrition
DESCRIPTION:Join us this Thursday\, October 31st from 11-12pm for Patrick Stover’s seminar titled “Folate-mediated One-carbon metabolism as an exemplar of the promise and perils of precision nutrition”. #seminarseries
URL:https://nutrisci.wisc.edu/event/patrick-stover-seminar/
LOCATION:Room 290\, Nutritional Sciences\, 1415 Linden Dr.\, Madison\, WI\, 53704\, United States
END:VEVENT
END:VCALENDAR