BEGIN:VCALENDAR
VERSION:2.0
PRODID:-//Nutritional Sciences - ECPv6.15.17.1//NONSGML v1.0//EN
CALSCALE:GREGORIAN
METHOD:PUBLISH
X-WR-CALNAME:Nutritional Sciences
X-ORIGINAL-URL:https://nutrisci.wisc.edu
X-WR-CALDESC:Events for Nutritional Sciences
REFRESH-INTERVAL;VALUE=DURATION:PT1H
X-Robots-Tag:noindex
X-PUBLISHED-TTL:PT1H
BEGIN:VTIMEZONE
TZID:UTC
BEGIN:STANDARD
TZOFFSETFROM:+0000
TZOFFSETTO:+0000
TZNAME:UTC
DTSTART:20230101T000000
END:STANDARD
END:VTIMEZONE
BEGIN:VEVENT
DTSTART;TZID=UTC:20241206T110000
DTEND;TZID=UTC:20241206T120000
DTSTAMP:20260420T082627
CREATED:20240904T222646Z
LAST-MODIFIED:20240904T222646Z
UID:10209-1733482800-1733486400@nutrisci.wisc.edu
SUMMARY:Leeanne Redman Seminar
DESCRIPTION:Join us this Thursday\, December 6th from 11-12pm for Leeanne Redman’s seminar. #seminarseries
URL:https://nutrisci.wisc.edu/event/leeanne-redman-seminar/
LOCATION:Room 290\, Nutritional Sciences\, 1415 Linden Dr.\, Madison\, WI\, 53704\, United States
END:VEVENT
END:VCALENDAR