BEGIN:VCALENDAR
VERSION:2.0
PRODID:-//Nutritional Sciences - ECPv6.15.17.1//NONSGML v1.0//EN
CALSCALE:GREGORIAN
METHOD:PUBLISH
X-ORIGINAL-URL:https://nutrisci.wisc.edu
X-WR-CALDESC:Events for Nutritional Sciences
REFRESH-INTERVAL;VALUE=DURATION:PT1H
X-Robots-Tag:noindex
X-PUBLISHED-TTL:PT1H
BEGIN:VTIMEZONE
TZID:America/Chicago
BEGIN:DAYLIGHT
TZOFFSETFROM:-0600
TZOFFSETTO:-0500
TZNAME:CDT
DTSTART:20240310T080000
END:DAYLIGHT
BEGIN:STANDARD
TZOFFSETFROM:-0500
TZOFFSETTO:-0600
TZNAME:CST
DTSTART:20241103T070000
END:STANDARD
BEGIN:DAYLIGHT
TZOFFSETFROM:-0600
TZOFFSETTO:-0500
TZNAME:CDT
DTSTART:20250309T080000
END:DAYLIGHT
BEGIN:STANDARD
TZOFFSETFROM:-0500
TZOFFSETTO:-0600
TZNAME:CST
DTSTART:20251102T070000
END:STANDARD
BEGIN:DAYLIGHT
TZOFFSETFROM:-0600
TZOFFSETTO:-0500
TZNAME:CDT
DTSTART:20260308T080000
END:DAYLIGHT
BEGIN:STANDARD
TZOFFSETFROM:-0500
TZOFFSETTO:-0600
TZNAME:CST
DTSTART:20261101T070000
END:STANDARD
END:VTIMEZONE
BEGIN:VEVENT
DTSTART;TZID=America/Chicago:20250911T110000
DTEND;TZID=America/Chicago:20250911T120000
DTSTAMP:20260421T145838
CREATED:20250917T142055Z
LAST-MODIFIED:20250917T142132Z
UID:11541-1757588400-1757592000@nutrisci.wisc.edu
SUMMARY:Courtney Karner Seminar
DESCRIPTION:Please join us for Professor Courtney Karner’s seminar on September 11\, 2025 at 11:00 a.m.  Professor Karner is from University of Texas – Southwestern and the title of his seminar is: “Glutamine Metabolism and the Control of Bone Mass”. \n 
URL:https://nutrisci.wisc.edu/event/courtney-karner-seminar/
LOCATION:290 Nutritional Sciences
END:VEVENT
END:VCALENDAR