BEGIN:VCALENDAR
VERSION:2.0
PRODID:-//Nutritional Sciences - ECPv6.15.17.1//NONSGML v1.0//EN
CALSCALE:GREGORIAN
METHOD:PUBLISH
X-WR-CALNAME:Nutritional Sciences
X-ORIGINAL-URL:https://nutrisci.wisc.edu
X-WR-CALDESC:Events for Nutritional Sciences
REFRESH-INTERVAL;VALUE=DURATION:PT1H
X-Robots-Tag:noindex
X-PUBLISHED-TTL:PT1H
BEGIN:VTIMEZONE
TZID:UTC
BEGIN:STANDARD
TZOFFSETFROM:+0000
TZOFFSETTO:+0000
TZNAME:UTC
DTSTART:20230101T000000
END:STANDARD
END:VTIMEZONE
BEGIN:VEVENT
DTSTART;TZID=UTC:20240201T110000
DTEND;TZID=UTC:20240201T120000
DTSTAMP:20260421T114333
CREATED:20240116T223833Z
LAST-MODIFIED:20240119T022325Z
UID:8693-1706785200-1706788800@nutrisci.wisc.edu
SUMMARY:Webb Smith\, UTHSC\, Seminar - Pediatric Obesity Treatment in the Mid-South: Bariatric Surgery\, Medication\, and Lifestyle Intervention
DESCRIPTION:Webb Smith\nUTHSC \nTitle: Pediatric Obesity Treatment in the Mid-South: Bariatric Surgery\, Medication\, and Lifestyle Intervention \nThursday\, February 1st\, 2024\n11:00-12:00pm\n290 Nutritional Sciences
URL:https://nutrisci.wisc.edu/event/webb-smith-uthsc-seminar-tba/
LOCATION:Room 290\, Nutritional Sciences\, 1415 Linden Dr.\, Madison\, WI\, 53704\, United States
ATTACH;FMTTYPE=image/jpeg:https://nutrisci.wisc.edu/wp-content/uploads/sites/416/2024/01/wsmith74.jpg
END:VEVENT
BEGIN:VEVENT
DTSTART;TZID=UTC:20240208T110000
DTEND;TZID=UTC:20240208T120000
DTSTAMP:20260421T114333
CREATED:20240116T224348Z
LAST-MODIFIED:20240116T224348Z
UID:8696-1707390000-1707393600@nutrisci.wisc.edu
SUMMARY:Lautaro Rostoll Cangiano\, UW-Madison\, Seminar - Influence of Early Life Microbiota on Dairy Calves’ Health and Disease
DESCRIPTION:Lautaro Rostoll Cangiano\nUW-Madison \nTitle: Influence of Early Life Microbiota on Dairy Calves’ Health and Disease \nThursday\, February 8th\, 2024\n11:00-12:00pm\n290 Nutritional Sciences
URL:https://nutrisci.wisc.edu/event/lautaro-rostoll-cangiano-uw-madison-seminar-influence-of-early-life-microbiota-on-dairy-calves-health-and-disease/
LOCATION:Room 290\, Nutritional Sciences\, 1415 Linden Dr.\, Madison\, WI\, 53704\, United States
ATTACH;FMTTYPE=image/jpeg:https://nutrisci.wisc.edu/wp-content/uploads/sites/416/2024/01/Lautaro-Rostoll-Cangiano.jpg
END:VEVENT
BEGIN:VEVENT
DTSTART;TZID=UTC:20240215T110000
DTEND;TZID=UTC:20240215T120000
DTSTAMP:20260421T114333
CREATED:20240116T224643Z
LAST-MODIFIED:20240116T224643Z
UID:8699-1707994800-1707998400@nutrisci.wisc.edu
SUMMARY:Sonia Kupfer\, University of Chicago\, Seminar - Modeling Host-Environment Interactions in Colonic Organoids from Diverse Individuals
DESCRIPTION:Sonia Kupfer\nUniversity of Chicago \nTitle: Modeling Host-Environment Interactions in Colonic Organoids from Diverse Individuals \nThursday\, February 15th\, 2024\n11:00-12:00pm\n290 Nutritional Sciences
URL:https://nutrisci.wisc.edu/event/sonia-kupfer-university-of-chicago-seminar-modeling-host-environment-interactions-in-colonic-organoids-from-diverse-individuals/
LOCATION:Room 290\, Nutritional Sciences\, 1415 Linden Dr.\, Madison\, WI\, 53704\, United States
ATTACH;FMTTYPE=image/jpeg:https://nutrisci.wisc.edu/wp-content/uploads/sites/416/2024/01/Sonia-Kupfer_Image.jpg
END:VEVENT
BEGIN:VEVENT
DTSTART;TZID=UTC:20240215T130000
DTEND;TZID=UTC:20240215T150000
DTSTAMP:20260421T114333
CREATED:20240202T012958Z
LAST-MODIFIED:20240202T013035Z
UID:8834-1708002000-1708009200@nutrisci.wisc.edu
SUMMARY:Global Conversations: Grand Challenges with Erica Phillips
DESCRIPTION:Global Conversations: Grand Challenges is a monthly virtual seminar series held on the third Thursday of every month at 1 PM. These sessions feature CALS experts whose work is being used to confront a global grand challenge. All sessions are recorded\, past sessions can be viewed here. Each academic year the focus is on a different grand challenge\, this year the theme is ‘Feeding the World’. All are welcome to attend and registration is required.
URL:https://nutrisci.wisc.edu/event/global-conversations-grand-challenges-with-erica-phillips/
END:VEVENT
BEGIN:VEVENT
DTSTART;TZID=UTC:20240222T110000
DTEND;TZID=UTC:20240222T120000
DTSTAMP:20260421T114333
CREATED:20240116T224838Z
LAST-MODIFIED:20240319T000424Z
UID:8702-1708599600-1708603200@nutrisci.wisc.edu
SUMMARY:Angela Byars-Winston\, UW-Madison\, Seminar - Advancing Culturally Responsive Mentorship
DESCRIPTION:Angela Byars-Winston\nUW-Madison \nAdvancing Culturally Responsive Mentorship \nThursday\, February 22nd\, 2024\n11:00-12:00pm\n290 Nutritional Sciences
URL:https://nutrisci.wisc.edu/event/angela-byars-winston-uw-madison-seminar-tba/
LOCATION:Room 290\, Nutritional Sciences\, 1415 Linden Dr.\, Madison\, WI\, 53704\, United States
ATTACH;FMTTYPE=image/jpeg:https://nutrisci.wisc.edu/wp-content/uploads/sites/416/2024/01/thumbnail_Head-shot-Feb-23-cropped.jpg
END:VEVENT
BEGIN:VEVENT
DTSTART;TZID=UTC:20240229T110000
DTEND;TZID=UTC:20240229T120000
DTSTAMP:20260421T114333
CREATED:20240116T225235Z
LAST-MODIFIED:20240116T225235Z
UID:8705-1709204400-1709208000@nutrisci.wisc.edu
SUMMARY:Jill Reedy\, NIH\, Assessment of Dietary Patterns Over the Life Course
DESCRIPTION:Jill Reedy\nNIH National Cancer institute\ndivision of cancer control & population sciences \nTitle: Assessment of Dietary Patterns Over the Life Course \nThursday\, February 29th\, 2024\n11:00-12:00pm\n290 Nutritional Sciences
URL:https://nutrisci.wisc.edu/event/jill-reedy-nih-assessment-of-dietary-patterns-over-the-life-course/
LOCATION:Room 290\, Nutritional Sciences\, 1415 Linden Dr.\, Madison\, WI\, 53704\, United States
ATTACH;FMTTYPE=image/jpeg:https://nutrisci.wisc.edu/wp-content/uploads/sites/416/2024/01/Jill-Reedy-photo-scaled.jpg
END:VEVENT
END:VCALENDAR