BEGIN:VCALENDAR
VERSION:2.0
PRODID:-//Nutritional Sciences - ECPv6.15.17.1//NONSGML v1.0//EN
CALSCALE:GREGORIAN
METHOD:PUBLISH
X-ORIGINAL-URL:https://nutrisci.wisc.edu
X-WR-CALDESC:Events for Nutritional Sciences
REFRESH-INTERVAL;VALUE=DURATION:PT1H
X-Robots-Tag:noindex
X-PUBLISHED-TTL:PT1H
BEGIN:VTIMEZONE
TZID:America/Chicago
BEGIN:DAYLIGHT
TZOFFSETFROM:-0600
TZOFFSETTO:-0500
TZNAME:CDT
DTSTART:20230312T080000
END:DAYLIGHT
BEGIN:STANDARD
TZOFFSETFROM:-0500
TZOFFSETTO:-0600
TZNAME:CST
DTSTART:20231105T070000
END:STANDARD
BEGIN:DAYLIGHT
TZOFFSETFROM:-0600
TZOFFSETTO:-0500
TZNAME:CDT
DTSTART:20240310T080000
END:DAYLIGHT
BEGIN:STANDARD
TZOFFSETFROM:-0500
TZOFFSETTO:-0600
TZNAME:CST
DTSTART:20241103T070000
END:STANDARD
BEGIN:DAYLIGHT
TZOFFSETFROM:-0600
TZOFFSETTO:-0500
TZNAME:CDT
DTSTART:20250309T080000
END:DAYLIGHT
BEGIN:STANDARD
TZOFFSETFROM:-0500
TZOFFSETTO:-0600
TZNAME:CST
DTSTART:20251102T070000
END:STANDARD
END:VTIMEZONE
BEGIN:VEVENT
DTSTART;TZID=America/Chicago:20240626T120000
DTEND;TZID=America/Chicago:20240626T130000
DTSTAMP:20260420T193415
CREATED:20240613T232135Z
LAST-MODIFIED:20240613T232135Z
UID:9220-1719403200-1719406800@nutrisci.wisc.edu
SUMMARY:Dietetics Supervised Practice Application Webinar
DESCRIPTION:The national dietetic internship match was discontinued in spring 2024. Join Department faculty and learn the details of the updated application cycle for 2024-2025. \nWhen: Wednesday\, June 26th at 12:00 pm central \nWhere: Virtual via Zoom 
URL:https://nutrisci.wisc.edu/event/dietetics-supervised-practice-application-webinar/
LOCATION:Virtual
END:VEVENT
END:VCALENDAR