BEGIN:VCALENDAR
VERSION:2.0
PRODID:-//Nutritional Sciences - ECPv6.15.17.1//NONSGML v1.0//EN
CALSCALE:GREGORIAN
METHOD:PUBLISH
X-WR-CALNAME:Nutritional Sciences
X-ORIGINAL-URL:https://nutrisci.wisc.edu
X-WR-CALDESC:Events for Nutritional Sciences
REFRESH-INTERVAL;VALUE=DURATION:PT1H
X-Robots-Tag:noindex
X-PUBLISHED-TTL:PT1H
BEGIN:VTIMEZONE
TZID:UTC
BEGIN:STANDARD
TZOFFSETFROM:+0000
TZOFFSETTO:+0000
TZNAME:UTC
DTSTART:20230101T000000
END:STANDARD
END:VTIMEZONE
BEGIN:VTIMEZONE
TZID:America/Chicago
BEGIN:DAYLIGHT
TZOFFSETFROM:-0600
TZOFFSETTO:-0500
TZNAME:CDT
DTSTART:20230312T080000
END:DAYLIGHT
BEGIN:STANDARD
TZOFFSETFROM:-0500
TZOFFSETTO:-0600
TZNAME:CST
DTSTART:20231105T070000
END:STANDARD
BEGIN:DAYLIGHT
TZOFFSETFROM:-0600
TZOFFSETTO:-0500
TZNAME:CDT
DTSTART:20240310T080000
END:DAYLIGHT
BEGIN:STANDARD
TZOFFSETFROM:-0500
TZOFFSETTO:-0600
TZNAME:CST
DTSTART:20241103T070000
END:STANDARD
BEGIN:DAYLIGHT
TZOFFSETFROM:-0600
TZOFFSETTO:-0500
TZNAME:CDT
DTSTART:20250309T080000
END:DAYLIGHT
BEGIN:STANDARD
TZOFFSETFROM:-0500
TZOFFSETTO:-0600
TZNAME:CST
DTSTART:20251102T070000
END:STANDARD
END:VTIMEZONE
BEGIN:VEVENT
DTSTART;TZID=UTC:20240904T080000
DTEND;TZID=UTC:20240904T170000
DTSTAMP:20260420T113440
CREATED:20240904T221818Z
LAST-MODIFIED:20240904T221818Z
UID:10198-1725436800-1725469200@nutrisci.wisc.edu
SUMMARY:Jesse Sheftel Seminar- "Science to Strategy: Transitioning from UW Research to Global Health and Development at BCG"
DESCRIPTION:Join us this Thursday\, October 24th from 11-12pm for Jesse Sheftel’s seminar titled “Science to Strategy: Transitioning from UW Research to Global Health and Development at BCG” #seminarseries
URL:https://nutrisci.wisc.edu/event/jesse-sheftel-seminar-science-to-strategy-transitioning-from-uw-research-to-global-health-and-development-at-bcg/
END:VEVENT
BEGIN:VEVENT
DTSTART;TZID=UTC:20240905T110000
DTEND;TZID=UTC:20240905T120000
DTSTAMP:20260420T113440
CREATED:20240903T222012Z
LAST-MODIFIED:20240903T222012Z
UID:10171-1725534000-1725537600@nutrisci.wisc.edu
SUMMARY:Jacqueline Montiero Seminar “Translating OMICS-based research and lifestyle to children and adolescents”
DESCRIPTION:Join us this Thursday\, September 5th from 11-12pm for Jacqueline Montiero’s seminar titled “Translating OMICS-based research and lifestyle to children and adolescents” #seminarseries
URL:https://nutrisci.wisc.edu/event/jacqueline-montiero-seminar-translating-omics-based-research-and-lifestyle-to-children-and-adolescents/
LOCATION:Room 290\, Nutritional Sciences\, 1415 Linden Dr.\, Madison\, WI\, 53704\, United States
END:VEVENT
BEGIN:VEVENT
DTSTART;TZID=America/Chicago:20240912T110000
DTEND;TZID=America/Chicago:20240912T120000
DTSTAMP:20260420T113440
CREATED:20240904T214700Z
LAST-MODIFIED:20240912T191506Z
UID:10181-1726138800-1726142400@nutrisci.wisc.edu
SUMMARY:Cacious Phiri Seminar- "Vitamin D and calcium reinforce bone health despite extreme vitamin A statuses."
DESCRIPTION:Join us this Thursday\, September 12th from 11-12pm for Cacious Phiri’s seminar titled “Vitamin D and calcium reinforce bone health despite extreme vitamin A statuses” #seminarseries \n \nThe livestream for this event is available here.
URL:https://nutrisci.wisc.edu/event/cacious-phiri-seminar-vitamin-d-and-calcium-reinforce-bone-health-despite-extreme-vitamin-a-statuses/
LOCATION:Room 290\, Nutritional Sciences\, 1415 Linden Dr.\, Madison\, WI\, 53704\, United States
END:VEVENT
BEGIN:VEVENT
DTSTART;TZID=UTC:20240919T110000
DTEND;TZID=UTC:20240919T120000
DTSTAMP:20260420T113440
CREATED:20240904T215049Z
LAST-MODIFIED:20240904T215049Z
UID:10185-1726743600-1726747200@nutrisci.wisc.edu
SUMMARY:Jomol Mathew Seminar- "Changing the paradigm of data silos: A new era of data-driven biomedical research\, population health and personalized medicine."
DESCRIPTION:Join us this Thursday\, September 19th from 11-12pm for Jomol Mathew’s seminar titled “Changing the paradigm of data silos: A new era of data-driven biomedical research\, population health and personalized medicine” #seminarseries \n 
URL:https://nutrisci.wisc.edu/event/jomol-mathew-seminar-changing-the-paradigm-of-data-silos-a-new-era-of-data-driven-biomedical-research-population-health-and-personalized-medicine/
LOCATION:Room 290\, Nutritional Sciences\, 1415 Linden Dr.\, Madison\, WI\, 53704\, United States
END:VEVENT
BEGIN:VEVENT
DTSTART;TZID=UTC:20240926T110000
DTEND;TZID=UTC:20240926T120000
DTSTAMP:20260420T113440
CREATED:20240904T215448Z
LAST-MODIFIED:20240904T215448Z
UID:10188-1727348400-1727352000@nutrisci.wisc.edu
SUMMARY:Tu-anh Huynh Seminar- "C-di-AMP - an essential second messenger turned toxic"
DESCRIPTION:Join us this Thursday\, September 26th from 11-12pm for Tu-anh Huynh’s seminar titled “C-di-AMP – an essential second messenger turned toxic” #seminarseries
URL:https://nutrisci.wisc.edu/event/tu-anh-huynh-seminar-c-di-amp-an-essential-second-messenger-turned-toxic/
LOCATION:Room 290\, Nutritional Sciences\, 1415 Linden Dr.\, Madison\, WI\, 53704\, United States
END:VEVENT
BEGIN:VEVENT
DTSTART;VALUE=DATE:20240929
DTEND;VALUE=DATE:20240930
DTSTAMP:20260420T113440
CREATED:20240829T224700Z
LAST-MODIFIED:20240829T224722Z
UID:10088-1727568000-1727654399@nutrisci.wisc.edu
SUMMARY:All Access Dietetics Virtual Student Fair
DESCRIPTION:Meet with program directors for the University of Wisconsin Integrated Graduate Program in Nutrition and Dietetics on Sunday\, September 29th through the All Access Dietetics virtual student fair. Program leadership will be available from 9-10 am\, 12-1 pm\, and 3-4 pm central time. Learn more about our program and the new concentrations for 2025: Medical Nutrition Therapy: Adults\, Medical Nutrition Therapy: Pediatrics\, or Lifestyle Medicine and Community Nutrition. Register through All Access Dietetics (https://www.allaccessdietetics.com/virtual-program-fair-rsvp-september-2024/)
URL:https://nutrisci.wisc.edu/event/all-access-dietetics-virtual-student-fair/
LOCATION:Virtual
END:VEVENT
END:VCALENDAR