BEGIN:VCALENDAR
VERSION:2.0
PRODID:-//Nutritional Sciences - ECPv6.15.17.1//NONSGML v1.0//EN
CALSCALE:GREGORIAN
METHOD:PUBLISH
X-WR-CALNAME:Nutritional Sciences
X-ORIGINAL-URL:https://nutrisci.wisc.edu
X-WR-CALDESC:Events for Nutritional Sciences
REFRESH-INTERVAL;VALUE=DURATION:PT1H
X-Robots-Tag:noindex
X-PUBLISHED-TTL:PT1H
BEGIN:VTIMEZONE
TZID:UTC
BEGIN:STANDARD
TZOFFSETFROM:+0000
TZOFFSETTO:+0000
TZNAME:UTC
DTSTART:20230101T000000
END:STANDARD
END:VTIMEZONE
BEGIN:VEVENT
DTSTART;TZID=UTC:20241107T110000
DTEND;TZID=UTC:20241107T120000
DTSTAMP:20260420T070002
CREATED:20240904T222142Z
LAST-MODIFIED:20240904T222142Z
UID:10203-1730977200-1730980800@nutrisci.wisc.edu
SUMMARY:Katelyn Cassel Seminar
DESCRIPTION:Join us this Thursday\, November 7th from 11-12pm for Katelyn Cassel’s seminar.
URL:https://nutrisci.wisc.edu/event/katelyn-cassel-seminar/
LOCATION:Room 290\, Nutritional Sciences\, 1415 Linden Dr.\, Madison\, WI\, 53704\, United States
END:VEVENT
BEGIN:VEVENT
DTSTART;TZID=UTC:20241114T110000
DTEND;TZID=UTC:20241114T120000
DTSTAMP:20260420T070002
CREATED:20240904T222310Z
LAST-MODIFIED:20240904T222310Z
UID:10205-1731582000-1731585600@nutrisci.wisc.edu
SUMMARY:Fengyi Wan Seminar
DESCRIPTION:Join us this Thursday\, November 14th from 11-12pm for Fengyi Wan’s seminar. #seminarseries
URL:https://nutrisci.wisc.edu/event/fengyi-wan-seminar/
LOCATION:Room 290\, Nutritional Sciences\, 1415 Linden Dr.\, Madison\, WI\, 53704\, United States
END:VEVENT
BEGIN:VEVENT
DTSTART;TZID=UTC:20241121T110000
DTEND;TZID=UTC:20241121T120000
DTSTAMP:20260420T070002
CREATED:20240904T222517Z
LAST-MODIFIED:20240905T231437Z
UID:10207-1732186800-1732190400@nutrisci.wisc.edu
SUMMARY:Loredana Quadro Seminar- "Amino acid stress regulates vitamin A delivery from the liver stores to the periphery of the body"
DESCRIPTION:Join us this Thursday\, November 21st from 11-12pm for Loredana Quadro’s seminar titled\, “Amino acid stress regulates vitamin A delivery from the liver stores to the periphery of the body.” #seminarseries \n 
URL:https://nutrisci.wisc.edu/event/loredana-quadro-seminar/
LOCATION:Room 290\, Nutritional Sciences\, 1415 Linden Dr.\, Madison\, WI\, 53704\, United States
END:VEVENT
END:VCALENDAR